BEGIN:VCALENDAR
VERSION:2.0
PRODID:-//Um prosto - ECPv6.15.17.1//NONSGML v1.0//EN
CALSCALE:GREGORIAN
METHOD:PUBLISH
X-WR-CALNAME:Menti Libere
X-ORIGINAL-URL:https://www.mentilibere.org
X-WR-CALDESC:Dogodki za Um prosto
REFRESH-INTERVAL;VALUE=DURATION:PT1H
X-Robots-Tag:noindex
X-PUBLISHED-TTL:PT1H
BEGIN:VTIMEZONE
TZID:UTC
BEGIN:STANDARD
TZOFFSETFROM:+0000
TZOFFSETTO:+0000
TZNAME:UTC
DTSTART:20210101T000000
END:STANDARD
END:VTIMEZONE
BEGIN:VEVENT
DTSTART;TZID=UTC:20230326T090000
DTEND;TZID=UTC:20230326T190000
DTSTAMP:20260424T170003
CREATED:20230302T011702Z
LAST-MODIFIED:20230305T174650Z
UID:13642-1679821200-1679857200@www.mentilibere.org
SUMMARY:Cleanin’ March 2023
DESCRIPTION:Cleanin’ March sbarca sull’isola di Sant’Andrea \nRitorna con la sua settima edizione il grande evento di pulizia ambientale nella Laguna di Marano. Dogodek bo imel omejeno število mest, pred njim pa bosta dve pobudi 9 in 10 marzo a Lignano \nForti del successo del 2019 – con circa 400 partecipanti – e dell’urgenza che il cambiamento climatico pone dinnanzi a tutti\, fantje iz Associazione Menti Libere iz Lignana Sabbiadora pripravljajo novo in presenetljivo edicijo Cleanin&#039;March: l’evento di pulizia ambientale partecipata giunto\, V 2023\, alla sua settima edizione.  \nIL 26 MARZO ALL’ISOLA DI SANT’ANDREA – Quest’anno l’appuntamento si terrà il 26 marzo all’isola di Sant’Andrea\, nella laguna di Marano\, že izbrana lokacija v drugi izvedbi pobude. Cleanin’ March sarà la tappa conclusiva di MigrArt\, progetto artistico-culturale sostenuto dalla Regione Autonoma del Friuli-Venezia Giulia\, in collaborazione con i Comuni di Marano Lagunare\, Lignano Sabbiadoro e Mortegliano\, oltre che alle numerose associazioni partner come Legambiente\, Associazione Altrememorie\, Circolo ARCI Cervignano\, Amici dell’Hospitale\, l’I.S.I.S. “Mattei” di Latisana e Cas’Aupa. \nIL PROGRAMMA DELLA GIORNATA – Le prime imbarcazioni partiranno dalla spiaggia adiacente al Faro Rosso lignanese alle 9. Conclusa la raccolta dei rifiuti che ogni anno le maree portano a Sant’Andrea\, come di consueto\, dnevni program vključuje veliko prostora za zabavo (očitno odgovoren!) potopljen v edinstveno pokrajino. Al termine del pranzo\, che ogni partecipante porterà da casa\, è infatti prevista musica dal vivo\, ma anche attività laboratoriali\, grazie alla collaborazione con Cas’Aupa e in particolare con il progetto “Mani in Plastica”\, katerega poslanstvo je ustvarjalno recikliranje. Ob tej priložnosti bo mogoče občudovati tudi nekatera dela Land Arta, ki bodo obogatila otoško pokrajino. Le installazioni\, realizzate da alcune artiste e artisti invitate da Menti Libere\, vsi bodo pokvarljivi. \nISCRIZIONI A NUMERO CHIUSO – Al fine di mantenere il più basso possibile l’impatto ambientale\, organizatorji so se odločili, da bo dogodek omejen na število ljudi. Prijave so potrebne na klic 348.0292862 oppure inviando una mail a info@mentilibere.org. Vsak udeleženec bo moral plačati kotizacijo v višini 20 euro con la quale saranno coperti i costi del trasporto e gli oneri assicurativi.  \nGli under18 e gli over70 pagheranno 5 evro.
URL:https://www.mentilibere.org/event/cleanin-march-2023/
LOCATION:Isola di Sant’Andrea\, Isola di Sant'Andrea\, Lignano Sabbiadoro\, Ud\, 33054\, Italia
CATEGORIES:Dogodki,Dogodki 2023
ATTACH;FMTTYPE=image/jpeg:https://www.mentilibere.org/wp-content/uploads/2023/03/loca-ndina-CM7YES-scaled.jpg
ORGANIZER;CN="Um prosto":MAILTO:info@mentilibere.org
END:VEVENT
BEGIN:VEVENT
DTSTART;TZID=UTC:20230310T173000
DTEND;TZID=UTC:20230310T183000
DTSTAMP:20260424T170003
CREATED:20230304T220341Z
LAST-MODIFIED:20230304T221123Z
UID:13736-1678469400-1678473000@www.mentilibere.org
SUMMARY:Ziqqurat
DESCRIPTION:Ziqqurat è il quarto percorso di residenza artistica organizzata da Menti Libere e vedrà la sua restituzione pubblica il 10 marca ob 17.30 v parku Ziggurat za mestno hišo Lignano Sabbiadoro. Saranno infatti Guerrilla Spam\, Massimiliano Vitti\, Noemi Vola e Giacomo Zorba\, avtor prenove zigurata, ki ga je kustosil Menti Libere v 2022\, umetnike, povabljene k posegom v park z interaktivnimi akcijami in instalacijami. Il progetto vuole attualizzare la portata artistica del “Giardino dei Labirinti”\, il parco realizzato negli anni Ottanta che comprendeva una serie di dispositivi architettonici mistico-ricreativi e di cui ora rimane solamente una porzione di giardino e la struttura dello Ziqqurat\, pravkar preurejena. Attraverso l’esposizione di opere realizzate a partire dall’incontro con i luoghi e gli abitanti di Lignano\, il progetto inscena un’azione socioculturale concreta in un ambiente urbano\, do katere lahko dostopamo z estetsko-rekreativnimi metodami.
URL:https://www.mentilibere.org/event/ziqqurat/
LOCATION:Comune Lignano Sabbiadoro\, Viale Europa\, 26\, Lignano Sabbiadoro\, Ud\, 33054\, Italia
CATEGORIES:Dogodki,Dogodki 2023
ATTACH;FMTTYPE=:
ORGANIZER;CN="Um prosto":MAILTO:info@mentilibere.org
END:VEVENT
BEGIN:VEVENT
DTSTART;VALUE=DATE:20230310
DTEND;VALUE=DATE:20230311
DTSTAMP:20260424T170003
CREATED:20230303T153848Z
LAST-MODIFIED:20230303T153848Z
UID:13680-1678406400-1678492799@www.mentilibere.org
SUMMARY:Drugi spomini - Nova pripoved o ozemlju: Onde
DESCRIPTION:Un progetto che indaga e racconta il tema dell’amicizia\, accompagnato dal romanzo “Le onde” di Virginia Woolf. Gruppi di amici di età diverse verranno coinvolti in azioni di arte relazionale e interviste. Nella tappa di Lignano le artiste incontreranno un gruppo di ragazze e ragazzi adolescenti in collaborazione con Menti Libere e L.HUBpark Centro Giovani. La costruzione di un’ esperienza sonora\, creata elaborando musiche originali e suoni raccolti nei luoghi attraversati\, dialogherà con frammenti del romanzo e della sua rielaborazione drammaturgica. \nWundertruppe e Voyageurs Immobiles | collaborano dal 2022 al progetto Onde. Wundertruppe\, collettivo artistico italiano\, crea performance artistiche in cuffia e audiowalk; Voyageurs Immobiles\, compagnia di creazione canadese\, integra diversi linguaggi artistici con particolare attenzione all’infanzia e all’adolescenza.
URL:https://www.mentilibere.org/event/altre-memorie-una-nuova-narrazione-del-territorio-onde/
LOCATION:Biblioteca comunale “Bruna Lizzi De Minicis”\, Via Treviso\, 2\, Lignano Sabbiadoro\, Ud\, 33054\, Italia
CATEGORIES:Dogodki,Dogodki 2023
ATTACH;FMTTYPE=:
ORGANIZER;CN="Um prosto":MAILTO:info@mentilibere.org
END:VEVENT
BEGIN:VEVENT
DTSTART;VALUE=DATE:20230308
DTEND;VALUE=DATE:20230311
DTSTAMP:20260424T170003
CREATED:20230303T154701Z
LAST-MODIFIED:20230303T154701Z
UID:13684-1678233600-1678492799@www.mentilibere.org
SUMMARY:Trasduzioni\, un'installazione sensoriale
DESCRIPTION:Il concept che guida lo sviluppo di questa installazione sensoriale immersiva si potrebbe collocare tra impressionismo e surrealismo. Nasce da un percorso di relazione con persone sorde e dal desiderio di condividere le sensazioni legate al loro sentire\, cercando di costruire una rappresentazione interattiva di un’esperienza emotivo sensoriale libera da riferimenti cognitivi determinati. Magritte scriveva: “il mio unico desiderio è quello di sentire il silenzio del mondo” e questo “sentire” sta alla base del processo artistico proposto. Si tratta di un approccio creativo/artistico\, un tentativo di rappresentare il frutto di una riflessione emotiva/estetica che non cerca di sperimentare ciò che “sente” un sordo ma bensì di comporre un racconto fatto di visione e di sensazione. Nel concreto l’installazione sarà un dispositivo in grado di accogliere uno spettatore alla volta e di metterlo in una condizione di intimità. L’elemento principale sarà una superficie vibrante sul quale lo spettatore potrà sedersi o sdraiarsi\, vicino alla quale sarà posizionato un display che trasmetterà dei testi. Grazie ad un lavoro di relazione ed interviste con alcune persone sorde\, gli artisti identificheranno tre specifiche condizioni emozionali\, raccogliendo feedback sul tipo di sensazione sensoriale che particolari situazioni\, ruomori o suoni generano nelle persone non udenti. Dopo di ciò\, queste tre condizioni emozionali saranno reinterpretate e processate per poter essere riprodotte dalla superficie vibrante.  \nNei mesi di febbraio e marzo 2023 sarà fatta circuitare una mostra nei comuni di\nCampoformido\, Trieste\, Nova Gorica (Sempas) e Lignano\, in cui esporre l’installazione\nartistica e il processo di ricerca svolto.\nAll’opening di ogni mostra corrisponderà un evento di sensibilizzazione alla cultura\nsorda\, per offrire un punto di vista su di essa in tutte le sue dimensioni.
URL:https://www.mentilibere.org/event/trasduzioni-uninstallazione-sensoriale/
LOCATION:Biblioteca comunale “Bruna Lizzi De Minicis”\, Via Treviso\, 2\, Lignano Sabbiadoro\, Ud\, 33054\, Italia
CATEGORIES:Dogodki,Dogodki 2023
ATTACH;FMTTYPE=:
ORGANIZER;CN="Um prosto":MAILTO:info@mentilibere.org
END:VEVENT
BEGIN:VEVENT
DTSTART;TZID=UTC:20220522T180000
DTEND;TZID=UTC:20220605T200000
DTSTAMP:20260424T170003
CREATED:20220519T085726Z
LAST-MODIFIED:20220519T085726Z
UID:13537-1653242400-1654459200@www.mentilibere.org
SUMMARY:“Vse se ruši”: inedito racconto delle rotte migratorie europee
DESCRIPTION:Inavguracija je predvidena za 22 maja ob 18 \n“Va tutto a rotoli”: inedito racconto delle rotte migratorie europee \nSette anni di storie raccolte su altrettanti rotoli di carta lunghi trenta metri ciascuno\, raccontano le rotte migratorie europee in una mostra d’arte all’Hospitale di San Giovanni di Gerusalemme a San Tomaso di Majano \nMAJANO – Sette lunghi anni di storie raccolte lungo le principali rotte migratorie europee diventano oggi una mostra d’arte: “Vse se ruši”. Razstavo bodo slavnostno odprli v nedeljo 22 maggio\, vse 18\, v čudovitem okolju bolnišnice San Giovanni di Gerusalemme v San Tomaso di Majano in bo odprt do 5 giugno\, obiskovalcem odprta v soboto nedeljo od 10 vse 12 in jim daj 15 vse 18. Za informacije in rezervacije vodenih izletov se lahko obrnete na Menti Libere prek njegovih socialnih kanalov (Facebook \, Instagram) ali na spletni strani www.mentilibere.org. \nLA MOSTRA – “Va tutto a rotoli” – curata da Eva Comuzzi – esporrà sette rotoli di carta\, lunghi trenta metri ciascuno\, sui quali il collettivo “Menti Libere”\, assieme all’artista Tommaso Sandri\, hanno raccolto disegni di migranti incontrati lungo le principali rotte dell’emigrazione europea ed extraeuropea\, dal 2015 do danes. Razstava je prvi dogodek v sklopu »MigrartArt: L’arte come incontro” che vedrà l’associazione Menti Libere impegnata nell’organizzazione di rassegne e residenze d’arte\, zahvaljujoč podpori Avtonomne dežele Furlanije-Julijske krajine in v sodelovanju s številnimi partnerji na deželnem ozemlju. L’artista\, in mostra\, affronta il delicato tema delle migrazioni a partire dai metodi narrativi con cui le approcciamo\, poskušajo s praktično in simbolično uporabo zvitkov. Tudi izbira lokacije, kjer bodo potekala dela, ni naključna: bolnišnica (nedavno lepo obnovljena) è una struttura risalente alla fine 12° secolo e nata per ospitare pellegrini e viandanti. Proprio lì sarà possibile essere partecipi di un viaggio interattivo che\, accompagnato da video\, materiale d’archivio e reinterpretazioni contemporanee dei rotoli\, bo obiskovalce popeljal v zgodbe izseljencev in krajev, od koder prihajajo in s katerimi so se srečevali v mesecih potovanja: dall’Asia\, v Afriko skozi Evropo. «I sette rotoli in mostra\, trasudanti storie e emozioni\, sogni e paure – ha spiegato Tommaso Sandri -\, predstavljajo egalitarno pripoved o intimnih in osebnih platih selitvenih epov, ki zaznamujejo naš čas. Ognuno di loro è una raccolta di testimonianze dirette e universalmente fruibili. Un inno alla multiculturalità̀ insita in ognuno di noi». \nIL PROGETTO MIGRART – Il progetto di viaggio MigrArt è nato nel 2015 da un’idea del collettivo Menti Libere che ha deciso di intraprendere la rotta balcanica\, nazaj. A fine di quell’anno Tommaso Sandri\, Alessandro Sandri e Paolo Tavani sono partiti dal Friuli\, da sempre crocevia di popoli\, do turško-sirske meje v treh mesecih. Durante il viaggio\, il rotolo di carta dei pennarelli colorati sono stati il mezzo di comunicazione fra i tre uomini e le persone incontrate\, oltre che un immediato kit di sollievo in quelle situazioni drammatiche\, za odrasle in otroke. Negli anni seguenti\, Tommaso Sandri ha “esportato” il format del rotolo intraprendendo altri viaggi dal Sud Italia a Calais e più di una volta in Bosnia\, z Umetniško karavano Videm. Zadnji projekt je datiran 2020\, con un viaggio che l’ha portato in Mali\, že leta vznemirjen zaradi notranjega konflikta, zastrtega z globalnimi interesi.
URL:https://www.mentilibere.org/event/va-tutto-a-rotoli-inedito-racconto-delle-rotte-migratorie-europee/
LOCATION:Hospitale di San Giovanni di Gerusalemme a San Tomaso di Majano\, Piazza S. Giovanni\, 11\, Majano\, UD\, 33030\, Italia
CATEGORIES:Dogodki,Dogodki 2022
ATTACH;FMTTYPE=:
ORGANIZER;CN="Um prosto":MAILTO:info@mentilibere.org
END:VEVENT
END:VCALENDAR