BEGIN:VCALENDAR
VERSION:2.0
PRODID:-//Menti Libere - ECPv6.15.17.1//NONSGML v1.0//EN
CALSCALE:GREGORIAN
METHOD:PUBLISH
X-WR-CALNAME:Menti Libere
X-ORIGINAL-URL:https://www.mentilibere.org
X-WR-CALDESC:Eventi per Menti Libere
REFRESH-INTERVAL;VALUE=DURATION:PT1H
X-Robots-Tag:noindex
X-PUBLISHED-TTL:PT1H
BEGIN:VTIMEZONE
TZID:Europe/Rome
BEGIN:DAYLIGHT
TZOFFSETFROM:+0100
TZOFFSETTO:+0200
TZNAME:CEST
DTSTART:20250330T010000
END:DAYLIGHT
BEGIN:STANDARD
TZOFFSETFROM:+0200
TZOFFSETTO:+0100
TZNAME:CET
DTSTART:20251026T010000
END:STANDARD
BEGIN:DAYLIGHT
TZOFFSETFROM:+0100
TZOFFSETTO:+0200
TZNAME:CEST
DTSTART:20260329T010000
END:DAYLIGHT
BEGIN:STANDARD
TZOFFSETFROM:+0200
TZOFFSETTO:+0100
TZNAME:CET
DTSTART:20261025T010000
END:STANDARD
BEGIN:DAYLIGHT
TZOFFSETFROM:+0100
TZOFFSETTO:+0200
TZNAME:CEST
DTSTART:20270328T010000
END:DAYLIGHT
BEGIN:STANDARD
TZOFFSETFROM:+0200
TZOFFSETTO:+0100
TZNAME:CET
DTSTART:20271031T010000
END:STANDARD
END:VTIMEZONE
BEGIN:VTIMEZONE
TZID:UTC
BEGIN:STANDARD
TZOFFSETFROM:+0000
TZOFFSETTO:+0000
TZNAME:UTC
DTSTART:20210101T000000
END:STANDARD
END:VTIMEZONE
BEGIN:VEVENT
DTSTART;TZID=Europe/Rome:20260321T143000
DTEND;TZID=Europe/Rome:20260321T170000
DTSTAMP:20260425T152927
CREATED:20260305T123019Z
LAST-MODIFIED:20260305T155152Z
UID:14568-1774103400-1774112400@www.mentilibere.org
SUMMARY:Storie di sconfinamenti. Diari in bicicletta
DESCRIPTION:Una pedalata collettiva tra le vigne e i colli del territorio transfrontaliero italo-sloveno\, accompagnati dalle letture di diari che raccontano la complessità storica di questo confine nel corso dell’ultimo secolo. \n\nNarrate dalla voce dell’attrice Aida Talliente e dalla musica di Giorgio Parisi\, queste storie di coraggio\, resistenza e speranza\, trasformeranno il paesaggio in scenografia e in luogo di ascolto condiviso.\nUn’esperienza che intreccia territorio e memoria\, movimento e narrazione\, per riaffermare insieme il diritto al movimento e il valore del confine come spazio di incontro e di relazione multiculturale.\n\n\nQUANDO: sabato 21 marzo dalle h 14:30\nDOVE: Partenza Az.Agr. Paolo Riz\, Via Italia 42\, Località Brazzano\, Cormons. Percorso ad anello. Al termine seguirà una degustazione di vini presso la “Vigna del Vat”\nDURATA: circa 2 ore\n\nINFO\nPartecipazione gratuita con iscrizione obbligatoria mandando una mail a info@mentilibere.org\nSu richiesta\, possibilità di noleggio biciclette a prezzo agevolato\n\n\nIn caso di maltempo l’evento sarà spostato a sabato 28 marzo \nL’evento fa parte del progetto “Migrart: Srotolare il confine”\, a cura di Associazione Menti Libere. In collaborazione con l’Archivio diaristico nazionale di Pieve Santo Stefano\, Casa Riz e Bikeezy. \n\nCon il contributo di Regione Friuli Venezia Giulia nell’ambito di GO!25.
URL:https://www.mentilibere.org/event/storie-di-sconfinamenti-diari-in-bicicletta/
LOCATION:Az.Agr. Paolo Riz\, Via Italia 42\, Località Brazzano\, Cormons\, UD\, 34071\, Italy
CATEGORIES:Eventi,Eventi 2026,Migrart
ATTACH;FMTTYPE=image/jpeg:https://www.mentilibere.org/wp-content/uploads/2026/03/fronteuff_03_05_2026_ok.jpg
ORGANIZER;CN="Menti Libere":MAILTO:info@mentilibere.org
END:VEVENT
BEGIN:VEVENT
DTSTART;TZID=UTC:20241216T180000
DTEND;TZID=UTC:20241216T200000
DTSTAMP:20260425T152927
CREATED:20241209T180259Z
LAST-MODIFIED:20241209T181915Z
UID:14222-1734372000-1734379200@www.mentilibere.org
SUMMARY:L'ingegnera delle dune
DESCRIPTION:Amici udinesi! \nLunedì 16 dicembre saremo allo Spazio35 di Udine dalle ore 18:00 per immergerci nel mondo dell’Ammophila Arenaria e portare un po’ di mare in città 🌊 in compagnia dell’artista Laura Pugno \n~ \nLa costa dell’Adriatico sta lentamente scomparendo e la natura ci sta aiutando a non perderla. \nSulle coste sabbiose del nostro litorale cresce una pianta ribelle\, che non si comporta come le altre piante e vanta l’appellativo di “ingegnere delle dune” per la sua abilità di costruttrice di dune: l’Ammophila Arenaria. \n  \n🐚 Il workshop INGEGNERA DELLE DUNE ci permetterà di approfondire il legame tra terra e mare\, elaborando messaggi in codice ispirati dall’antico sistema di comunicazione marittima: l’alfabeto semaforico 🎌 \nLe azioni saranno guidate dall’artista mettendo in dialogo il disegno\, la scrittura e alcuni materiali naturali prelevati dal litorale adriatico. \nAd accompagnarci in questa esplorazione\, le parole di Tiziano Scarpa\, che all’ingegnera delle dune ha dedicato un racconto. \n  \n🎟️ Partecipazione gratuita\, su prenotazione info@mentilibere.org \n👀 La partecipazione al workshop include un’uscita naturalistica sul litorale adriatico con una guida di @foce_del_tagliamento in primavera 2025 \nCon il sostegno della Regione autonoma del Friuli-Venezia Giulia \nRealizzato all’interno del progetto Migrart – L’arte come incontro \n  \n🤝 In collaborazione con Comune di Lignano Sabbiadoro\, Imana Lab\, Puntozero Società Cooperativa\, ARCI Cervignano APS\, Damatrà Onlus \nEvento Fb: https://fb.me/e/3Q6i7GkeO
URL:https://www.mentilibere.org/event/lingegnera-delle-dune/
LOCATION:Spazio35\, Via Caterina Percoto\, 6\, Udine\, Ud\, 33100\, Italy
CATEGORIES:Eventi,Eventi 2024,Migrart
ATTACH;FMTTYPE=:
ORGANIZER;CN="Menti Libere":MAILTO:info@mentilibere.org
END:VEVENT
BEGIN:VEVENT
DTSTART;TZID=UTC:20240412T200000
DTEND;TZID=UTC:20240412T220000
DTSTAMP:20260425T152927
CREATED:20240329T180907Z
LAST-MODIFIED:20240329T180933Z
UID:14134-1712952000-1712959200@www.mentilibere.org
SUMMARY:VA TUTTO A ROTOLI ?
DESCRIPTION:Letture\, racconti\, musica e migrazioni.\n12 Aprile\, H 20\, Cjase di Catine\, Villalta di Fagagna (UD)\ningresso libero\n\nIn un momento storico in cui tutte le certezze sembrano poter crollare da un momento all’altro una serata che attraverso letture\, racconti e musica pone  alcune domande collettive partendo da una\, urgente e provocatoria\, in particolare: VA TUTTO A ROTOLI ?\nIspirandosi al progetto di Menti Libere di raccolta di disegni dei migranti incontrati lungo le rotte migratorie dal 2015 si intraprenderà un viaggio attraverso memorie\, atmosfere sonore e lungimiranze.\n\nLetture\, Ornella Luppi\nRacconti\, Nabil Bougrine\, Tommaso Sandri\ncon Overdrawn Duo\nGabriele Cancelli\, tromba\, filicorno\, effetti\, live loop\nMax Ravanello\, trombone\, tuba\, effetti\, live loop
URL:https://www.mentilibere.org/event/va-tutto-a-rotoli/
LOCATION:Cjase di Catine\, Via Selvuzzis\, 2\, Fagagna\, Ud\, 33034\, Italia
CATEGORIES:Eventi,Eventi 2024
ATTACH;FMTTYPE=:
ORGANIZER;CN="Menti Libere":MAILTO:info@mentilibere.org
END:VEVENT
BEGIN:VEVENT
DTSTART;TZID=UTC:20220522T180000
DTEND;TZID=UTC:20220605T200000
DTSTAMP:20260425T152927
CREATED:20220519T085726Z
LAST-MODIFIED:20220519T085726Z
UID:13537-1653242400-1654459200@www.mentilibere.org
SUMMARY:“Va tutto a rotoli”: inedito racconto delle rotte migratorie europee
DESCRIPTION:L’inaugurazione è in programma il 22 maggio alle 18 \n“Va tutto a rotoli”: inedito racconto delle rotte migratorie europee \nSette anni di storie raccolte su altrettanti rotoli di carta lunghi trenta metri ciascuno\, raccontano le rotte migratorie europee in una mostra d’arte all’Hospitale di San Giovanni di Gerusalemme a San Tomaso di Majano \nMAJANO – Sette lunghi anni di storie raccolte lungo le principali rotte migratorie europee diventano oggi una mostra d’arte: “Va tutto a rotoli”. L’esposizione sarà inaugurata domenica 22 maggio\, alle 18\, nella splendida cornice dell’Hospitale di San Giovanni di Gerusalemme a San Tomaso di Majano e rimarrà aperta fino al 5 giugno\, visitabile di sabato e domenica dalle 10 alle 12 e dalle 15 alle 18. Per informazioni e prenotazioni di visite guidate è possibile contattare Menti Libere attraverso i suoi canali social (Facebook \, Instagram) o sul sito www.mentilibere.org. \nLA MOSTRA – “Va tutto a rotoli” – curata da Eva Comuzzi – esporrà sette rotoli di carta\, lunghi trenta metri ciascuno\, sui quali il collettivo “Menti Libere”\, assieme all’artista Tommaso Sandri\, hanno raccolto disegni di migranti incontrati lungo le principali rotte dell’emigrazione europea ed extraeuropea\, dal 2015 a oggi. La mostra è il primo appuntamento del progetto “MigrArt: L’arte come incontro” che vedrà l’associazione Menti Libere impegnata nell’organizzazione di rassegne e residenze d’arte\, grazie al sostegno della Regione Autonoma Friuli-Venezia Giulia e in collaborazione molti partner del territorio regionale. L’artista\, in mostra\, affronta il delicato tema delle migrazioni a partire dai metodi narrativi con cui le approcciamo\, cimentandosi in un utilizzo pratico e simbolico dei rotoli. Anche la scelta della location che ospiterà le opere non è casuale: l’Hospitale (magnificamente restaurato di recente) è una struttura risalente alla fine 12° secolo e nata per ospitare pellegrini e viandanti. Proprio lì sarà possibile essere partecipi di un viaggio interattivo che\, accompagnato da video\, materiale d’archivio e reinterpretazioni contemporanee dei rotoli\, porterà i visitatori all’interno delle storie degli emigrati e dei luoghi da cui provengono e che hanno incontrato nei mesi di cammino: dall’Asia\, all’Africa passando per l’Europa. «I sette rotoli in mostra\, trasudanti storie e emozioni\, sogni e paure – ha spiegato Tommaso Sandri -\, rappresentano un’egalitaria narrazione dei lati intimi e personali delle epopee migratorie che caratterizzano il nostro tempo. Ognuno di loro è una raccolta di testimonianze dirette e universalmente fruibili. Un inno alla multiculturalità̀ insita in ognuno di noi». \nIL PROGETTO MIGRART – Il progetto di viaggio MigrArt è nato nel 2015 da un’idea del collettivo Menti Libere che ha deciso di intraprendere la rotta balcanica\, a ritroso. A fine di quell’anno Tommaso Sandri\, Alessandro Sandri e Paolo Tavani sono partiti dal Friuli\, da sempre crocevia di popoli\, giungendo al confine turco-siriano in tre mesi. Durante il viaggio\, il rotolo di carta dei pennarelli colorati sono stati il mezzo di comunicazione fra i tre uomini e le persone incontrate\, oltre che un immediato kit di sollievo in quelle situazioni drammatiche\, per i grandi e i piccoli. Negli anni seguenti\, Tommaso Sandri ha “esportato” il format del rotolo intraprendendo altri viaggi dal Sud Italia a Calais e più di una volta in Bosnia\, con la Carovana Artistica di Udine. L’ultimo progetto è datato 2020\, con un viaggio che l’ha portato in Mali\, da anni sconvolto da un conflitto interno velato da interessi globali.
URL:https://www.mentilibere.org/event/va-tutto-a-rotoli-inedito-racconto-delle-rotte-migratorie-europee/
LOCATION:Hospitale di San Giovanni di Gerusalemme a San Tomaso di Majano\, Piazza S. Giovanni\, 11\, Majano\, UD\, 33030\, Italia
CATEGORIES:Eventi,Eventi 2022
ATTACH;FMTTYPE=:
ORGANIZER;CN="Menti Libere":MAILTO:info@mentilibere.org
END:VEVENT
END:VCALENDAR