BEGIN:VCALENDAR
VERSION:2.0
PRODID:-//Mind Free - ECPv6.15.17.1//NONSGML v1.0//EN
CALSCALE:GREGORIAN
METHOD:PUBLISH
X-WR-CALNAME:Menti Libere
X-ORIGINAL-URL:https://www.mentilibere.org
X-WR-CALDESC:Events for Mind Free
REFRESH-INTERVAL;VALUE=DURATION:PT1H
X-Robots-Tag:noindex
X-PUBLISHED-TTL:PT1H
BEGIN:VTIMEZONE
TZID:UTC
BEGIN:STANDARD
TZOFFSETFROM:+0000
TZOFFSETTO:+0000
TZNAME:UTC
DTSTART:20240101T000000
END:STANDARD
END:VTIMEZONE
BEGIN:VEVENT
DTSTART;TZID=UTC:20250925T170000
DTEND;TZID=UTC:20250925T190000
DTSTAMP:20260424T124756
CREATED:20250909T170948Z
LAST-MODIFIED:20250909T170948Z
UID:14411-1758819600-1758826800@www.mentilibere.org
SUMMARY:Lignano Riot
DESCRIPTION:The month of September will end with another important appointment for free minds: il 25\, at 17\, nella sede del Municipio di Lignano Sabbiadoro\, verrà infatti inaugurata la mostra “Lignano Riot” dell’artista Michele Bazzana\, a research project focused on the events of 1958 who brought Lignano Sabbiadoro to autonomy from the municipality of Latisana whose it was part to then.
URL:https://www.mentilibere.org/event/lignano-riot/
LOCATION:Comune Lignano Sabbiadoro\, Viale Europa\, 26\, Lignano Sabbiadoro\, Ud\, 33054\, Italia
CATEGORIES:Events,Eventi 2025,Migrart
ATTACH;FMTTYPE=image/jpeg:https://www.mentilibere.org/wp-content/uploads/2025/09/Udine35-scaled.jpg
ORGANIZER;CN="Mind Free":MAILTO:info@mentilibere.org
END:VEVENT
END:VCALENDAR